BEGIN:VCALENDAR
VERSION:2.0
PRODID:-//Rotorua Pistol Club - ECPv4.5.11//NONSGML v1.0//EN
CALSCALE:GREGORIAN
METHOD:PUBLISH
X-WR-CALNAME:Rotorua Pistol Club
X-ORIGINAL-URL:http://www.rotoruapistolclub.org.nz
X-WR-CALDESC:Events for Rotorua Pistol Club
BEGIN:VEVENT
DTSTART;VALUE=DATE:20180101
DTEND;VALUE=DATE:20180101
DTSTAMP:20180123T102250
CREATED:20170905T220833Z
LAST-MODIFIED:20171116T231153Z
UID:3242-1514764800-1514851199@www.rotoruapistolclub.org.nz
SUMMARY:New Years Day
DESCRIPTION:
URL:http://www.rotoruapistolclub.org.nz/calendar/new-years-day/
LOCATION:Bay
CATEGORIES:Others
END:VEVENT
BEGIN:VEVENT
DTSTART;VALUE=DATE:20180108
DTEND;VALUE=DATE:20180108
DTSTAMP:20180123T102250
CREATED:20170907T214308Z
LAST-MODIFIED:20171116T231314Z
UID:3530-1515369600-1515455999@www.rotoruapistolclub.org.nz
SUMMARY:Committee Meeting 7.30pm At Gun Supplies
DESCRIPTION:
URL:http://www.rotoruapistolclub.org.nz/calendar/committee-meeting-7-30pm-at-gun-supplies-7/
LOCATION:3 Ti Street\, Rotorua\, bay of plenty\, 3010\, New Zealand
CATEGORIES:Others
END:VEVENT
BEGIN:VEVENT
DTSTART;VALUE=DATE:20180114
DTEND;VALUE=DATE:20180114
DTSTAMP:20180123T102250
CREATED:20170905T220944Z
LAST-MODIFIED:20170905T220944Z
UID:3244-1515888000-1515974399@www.rotoruapistolclub.org.nz
SUMMARY:Match 1 RPC Service Pistol
DESCRIPTION:Set up: 9am \nShooting: 9:30am \n
URL:http://www.rotoruapistolclub.org.nz/calendar/match-1-rpc-service-pistol-6/
LOCATION:Mead Rd\, Whakarewarewa\, Rotorua\, Bay\, 3073\, New Zealand
CATEGORIES:Service Pistol
END:VEVENT
BEGIN:VEVENT
DTSTART;VALUE=DATE:20180121
DTEND;VALUE=DATE:20180121
DTSTAMP:20180123T102250
CREATED:20170905T221103Z
LAST-MODIFIED:20170905T221103Z
UID:3246-1516492800-1516579199@www.rotoruapistolclub.org.nz
SUMMARY:Match 3- RPC Club Champs-Club Steel Challenge
DESCRIPTION:Shooting: 9: 30am \n
URL:http://www.rotoruapistolclub.org.nz/calendar/match-3-rpc-club-champs-club-steel-challenge/
LOCATION:Mead Rd\, Whakarewarewa\, Rotorua\, Bay\, 3073\, New Zealand
CATEGORIES:RPC Steel Challenge
END:VEVENT
BEGIN:VEVENT
DTSTART;VALUE=DATE:20180126
DTEND;VALUE=DATE:20180126
DTSTAMP:20180123T102250
CREATED:20170905T221332Z
LAST-MODIFIED:20170905T221332Z
UID:3250-1516924800-1517011199@www.rotoruapistolclub.org.nz
SUMMARY:Hawke's Bay Pistol Club - IPSC Summer Challenge Level 3
DESCRIPTION:Pre- Match \n
URL:http://www.rotoruapistolclub.org.nz/calendar/hawkes-bay-pistol-club-ipsc-summer-challenge-level-3/
LOCATION:Bay
CATEGORIES:Others
END:VEVENT
BEGIN:VEVENT
DTSTART;VALUE=DATE:20180127
DTEND;VALUE=DATE:20180127
DTSTAMP:20180123T102250
CREATED:20170905T221408Z
LAST-MODIFIED:20170905T221408Z
UID:3252-1517011200-1517011200@www.rotoruapistolclub.org.nz
SUMMARY:Hawke's Bay Pistol Club - IPSC Summer Challenge Level 3
DESCRIPTION:Day 1 \n
URL:http://www.rotoruapistolclub.org.nz/calendar/hawkes-bay-pistol-club-ipsc-summer-challenge-level-3-2/
LOCATION:Bay
CATEGORIES:Others
END:VEVENT
BEGIN:VEVENT
DTSTART;VALUE=DATE:20180128
DTEND;VALUE=DATE:20180128
DTSTAMP:20180123T102250
CREATED:20170905T221245Z
LAST-MODIFIED:20170905T221245Z
UID:3248-1517097600-1517097600@www.rotoruapistolclub.org.nz
SUMMARY:OFFICIAL WORKING BEE
DESCRIPTION:9am to 1pm \n
URL:http://www.rotoruapistolclub.org.nz/calendar/official-working-bee/
LOCATION:Mead Rd\, Whakarewarewa\, Rotorua\, Bay\, 3073\, New Zealand
CATEGORIES:RP OFFICIAL WORKING BEE
END:VEVENT
BEGIN:VEVENT
DTSTART;VALUE=DATE:20180128
DTEND;VALUE=DATE:20180128
DTSTAMP:20180123T102250
CREATED:20170905T221438Z
LAST-MODIFIED:20170905T221438Z
UID:3254-1517097600-1517183999@www.rotoruapistolclub.org.nz
SUMMARY:Hawke's Bay Pistol Club - IPSC Summer Challenge Level 3
DESCRIPTION:Day 2 \n
URL:http://www.rotoruapistolclub.org.nz/calendar/hawkes-bay-pistol-club-ipsc-summer-challenge-level-3-3/
LOCATION:Bay
CATEGORIES:Others
END:VEVENT
BEGIN:VEVENT
DTSTART;VALUE=DATE:20180204
DTEND;VALUE=DATE:20180204
DTSTAMP:20180123T102250
CREATED:20170905T221602Z
LAST-MODIFIED:20170905T221602Z
UID:3256-1517702400-1517788799@www.rotoruapistolclub.org.nz
SUMMARY:Match 1- RPC Service Pistol
DESCRIPTION:Set up: 9am \nShooting: 9:30am \n
URL:http://www.rotoruapistolclub.org.nz/calendar/match-1-rpc-service-pistol-7/
LOCATION:Mead Rd\, Whakarewarewa\, Rotorua\, Bay\, 3073\, New Zealand
CATEGORIES:Service Pistol
END:VEVENT
END:VCALENDAR